BEGIN:VCALENDAR
VERSION:2.0
PRODID:-//Afera - ECPv6.15.17.1//NONSGML v1.0//EN
CALSCALE:GREGORIAN
METHOD:PUBLISH
X-ORIGINAL-URL:https://afera.onl
X-WR-CALDESC:Évènements pour Afera
REFRESH-INTERVAL;VALUE=DURATION:PT1H
X-Robots-Tag:noindex
X-PUBLISHED-TTL:PT1H
BEGIN:VTIMEZONE
TZID:Europe/Paris
BEGIN:DAYLIGHT
TZOFFSETFROM:+0100
TZOFFSETTO:+0200
TZNAME:CEST
DTSTART:20180325T010000
END:DAYLIGHT
BEGIN:STANDARD
TZOFFSETFROM:+0200
TZOFFSETTO:+0100
TZNAME:CET
DTSTART:20181028T010000
END:STANDARD
BEGIN:DAYLIGHT
TZOFFSETFROM:+0100
TZOFFSETTO:+0200
TZNAME:CEST
DTSTART:20190331T010000
END:DAYLIGHT
BEGIN:STANDARD
TZOFFSETFROM:+0200
TZOFFSETTO:+0100
TZNAME:CET
DTSTART:20191027T010000
END:STANDARD
BEGIN:DAYLIGHT
TZOFFSETFROM:+0100
TZOFFSETTO:+0200
TZNAME:CEST
DTSTART:20200329T010000
END:DAYLIGHT
BEGIN:STANDARD
TZOFFSETFROM:+0200
TZOFFSETTO:+0100
TZNAME:CET
DTSTART:20201025T010000
END:STANDARD
BEGIN:DAYLIGHT
TZOFFSETFROM:+0100
TZOFFSETTO:+0200
TZNAME:CEST
DTSTART:20210328T010000
END:DAYLIGHT
BEGIN:STANDARD
TZOFFSETFROM:+0200
TZOFFSETTO:+0100
TZNAME:CET
DTSTART:20211031T010000
END:STANDARD
BEGIN:DAYLIGHT
TZOFFSETFROM:+0100
TZOFFSETTO:+0200
TZNAME:CEST
DTSTART:20220327T010000
END:DAYLIGHT
BEGIN:STANDARD
TZOFFSETFROM:+0200
TZOFFSETTO:+0100
TZNAME:CET
DTSTART:20221030T010000
END:STANDARD
BEGIN:DAYLIGHT
TZOFFSETFROM:+0100
TZOFFSETTO:+0200
TZNAME:CEST
DTSTART:20230326T010000
END:DAYLIGHT
BEGIN:STANDARD
TZOFFSETFROM:+0200
TZOFFSETTO:+0100
TZNAME:CET
DTSTART:20231029T010000
END:STANDARD
BEGIN:DAYLIGHT
TZOFFSETFROM:+0100
TZOFFSETTO:+0200
TZNAME:CEST
DTSTART:20240331T010000
END:DAYLIGHT
BEGIN:STANDARD
TZOFFSETFROM:+0200
TZOFFSETTO:+0100
TZNAME:CET
DTSTART:20241027T010000
END:STANDARD
BEGIN:DAYLIGHT
TZOFFSETFROM:+0100
TZOFFSETTO:+0200
TZNAME:CEST
DTSTART:20250330T010000
END:DAYLIGHT
BEGIN:STANDARD
TZOFFSETFROM:+0200
TZOFFSETTO:+0100
TZNAME:CET
DTSTART:20251026T010000
END:STANDARD
BEGIN:DAYLIGHT
TZOFFSETFROM:+0100
TZOFFSETTO:+0200
TZNAME:CEST
DTSTART:20260329T010000
END:DAYLIGHT
BEGIN:STANDARD
TZOFFSETFROM:+0200
TZOFFSETTO:+0100
TZNAME:CET
DTSTART:20261025T010000
END:STANDARD
END:VTIMEZONE
BEGIN:VEVENT
DTSTART;TZID=Europe/Paris:20250314T083000
DTEND;TZID=Europe/Paris:20250315T130000
DTSTAMP:20260422T145823
CREATED:20241227T185429Z
LAST-MODIFIED:20250227T120830Z
UID:19440-1741941000-1742043600@afera.onl
SUMMARY:Congrès AFERA 2025: 14 et 15 mars 2025
DESCRIPTION:Bienvenue à tous pour le 34e congrès de l’AFERA. Nous fêtons pour cette occasion les 50 ans de l’AFERA également. Les intervenants vous préparent des topos qui vont aiguiser vos sens afin de profiter des festivités. Vous pouvez dès à présent vous inscrire.\nCi dessous\, voici la plaquette du Congrès\, à déguster sans modération: Cliquez ICI\nEt voici le lien pour s’inscrire en ligne: S’inscrire ICI
URL:https://afera.onl/programme/congres-afera-2025-14-et-15-mars-2025/
LOCATION:HÔTEL C-SUITES\, 152 rue Claude Nicolas Ledoux\, NÎMES\, 30900
CATEGORIES:2025
END:VEVENT
BEGIN:VEVENT
DTSTART;TZID=Europe/Paris:20241206T083000
DTEND;TZID=Europe/Paris:20241206T180000
DTSTAMP:20260422T145823
CREATED:20241014T200153Z
LAST-MODIFIED:20241014T200153Z
UID:19263-1733473800-1733508000@afera.onl
SUMMARY:Thème Algologie avec 3 intervenants: Drs V. Piano\,  L. Frachon\, K.Aledo Remillet
DESCRIPTION:Algologie\nLe MatinV. Piano.Les données de la science sur la douleur : tisser les liens entre la MTC et médecine occidentale.\nRevue de la littérature sur les lombalgies et présentation des points de Maître Tung\nL’après-midiLaurence Frachon “La douleur et la surface”\nKarine Aledo-Remillet “Fibromyalgie\, je mâche mes maux”\nVirginie Piano “Boîte à outils de la douleur en acupuncture”
URL:https://afera.onl/programme/theme-algologie2024/
LOCATION:Faculté de Médecine de Nimes\, 186 Chemin du Carreau de Lanes\, Nîmes\, 30000\, France
END:VEVENT
BEGIN:VEVENT
DTSTART;TZID=Europe/Paris:20230512T080000
DTEND;TZID=Europe/Paris:20230513T180000
DTSTAMP:20260422T145823
CREATED:20220905T200652Z
LAST-MODIFIED:20220905T200652Z
UID:16495-1683878400-1684000800@afera.onl
SUMMARY:DPC Cervicalgie(s) les 12 et 13 Mai 2023
DESCRIPTION:Comme à son habitude\, le DPC propose d’aborder un thème de Prise en Charge Médicale sous différentes facettes. \nCette année\, sur le sujet des Cervicalgies\, 3 Médecins sauront animer cette formation: \n– Pr Arnaud Dupeyron\n– Dr Jean-Pierre Giraud\n– Dr Bernard Verdoux \n  \nLes inscriptions se feront auprès de la secrétaire administrative de l’AFERA. Et il y aura un formulaire en ligne à remplir prochainement. \nAu plaisir de vous y rencontrer. \nL’équipe AFERA.
URL:https://afera.onl/programme/dpc-cervicalgies-les-12-et-13-mai-2023/
LOCATION:Faculté de Médecine de Nimes\, 186 Chemin du Carreau de Lanes\, Nîmes\, 30000\, France
CATEGORIES:2023,DPC
END:VEVENT
BEGIN:VEVENT
DTSTART;TZID=Europe/Paris:20230317T083000
DTEND;TZID=Europe/Paris:20230318T123000
DTSTAMP:20260422T145823
CREATED:20220905T195254Z
LAST-MODIFIED:20230122T085823Z
UID:16493-1679041800-1679142600@afera.onl
SUMMARY:32 ème Congrès de l’AFERA | Mars 2023
DESCRIPTION:Le 32e Congrès de l’AFERA aura lieu le 17 et 18 mars 2023 à Nîmes\nNotez bien qu’il y a un tarif préférentiel pour les inscriptions effectuées avant le 15 Février 2023 \, ainsi que pour les adhérents.\n\nCi dessous la plaquette 2023\nCliquez ici pour télécharger la plaquette 2023
URL:https://afera.onl/programme/32-eme-congres-de-lafera-mars-2023/
LOCATION:HÔTEL C-SUITES\, 152 rue Claude Nicolas Ledoux\, NÎMES\, 30900
CATEGORIES:2023,Congrès
END:VEVENT
BEGIN:VEVENT
DTSTART;TZID=Europe/Paris:20220318T083000
DTEND;TZID=Europe/Paris:20220319T123000
DTSTAMP:20260422T145823
CREATED:20211223T101644Z
LAST-MODIFIED:20230122T090012Z
UID:16279-1647592200-1647693000@afera.onl
SUMMARY:31 ème Congrès de l’AFERA | Mars 2022
DESCRIPTION:Le 31e Congrès de l’AFERA aura lieu le 18 et 19 mars 2022 à Nîmes\nVous pouvez d’ores et déjà trouver ci dessous la plaquette de présentation avec la liste des interventions et les détails pour les inscriptions. Notez bien qu’il y a un tarif préférentiel pour les inscriptions effectuées avant le 15 Février 2022 \, ainsi que pour les adhérents.\n\nCliquer ici pour voir la plaquette 2022
URL:https://afera.onl/programme/31-eme-congres-de-lafera-mars-2022/
LOCATION:HÔTEL C-SUITES\, 152 rue Claude Nicolas Ledoux\, NÎMES\, 30900
CATEGORIES:2022,Congrès
END:VEVENT
BEGIN:VEVENT
DTSTART;TZID=Europe/Paris:20210312T083000
DTEND;TZID=Europe/Paris:20210313T130000
DTSTAMP:20260422T145823
CREATED:20200917T145956Z
LAST-MODIFIED:20210307T002000Z
UID:15956-1615537800-1615640400@afera.onl
SUMMARY:30 ème Congrès de l'AFERA | Mars 2021
DESCRIPTION:Le 29e congrès de l’AFERA devait avoir lieu le 20 et 21 mars 2020 à Nîmes\nPour cause de confinement\, le congrès 2020 avait été annulé: Mais nous voici prêts\, avec un programme actuellement établi.\n \nLe Congrès se déroulera en Distanciel\, avec la participation des intervenants et organisateurs sur Site (au C-Suite).\nNous utiliserons une solution de VisioConférence appelée GoToMeeting grâce à la présence d’un technicien informaticien de SARL DSO.\n\nNous avons d’ores et déjà besoin de votre avis :\nSouhaitez-vous participer au Congrès en visioconférence? Souhaitez-vous recevoir les Actes du Congrès en format Numérique? Exprimez vous en cliquant ICI Déjà 150 participants ont confirmé leur intention de suivre le congrès en Visioconférence. [MERCI] \n[vc_row][vc_column][vc_btn title=”voir la Plaquette 2021″ style=”classic” shape=”square” color=”inverse” size=”lg” align=”center” link=”url:https%3A%2F%2Fafera.onl%2Fwp-content%2Fuploads%2F2021%2F01%2Fplaquette_congres2021.pdf||target:%20_blank|”][/vc_column][/vc_row]
URL:https://afera.onl/programme/29e-congres-de-lafera-mars-2021/
CATEGORIES:2021
END:VEVENT
BEGIN:VEVENT
DTSTART;VALUE=DATE:20210312
DTEND;VALUE=DATE:20210315
DTSTAMP:20260422T145823
CREATED:20210312T080015Z
LAST-MODIFIED:20210308T230142Z
UID:16051-1615507200-1615766399@afera.onl
SUMMARY:Télécharger votre attestation de participation au congrès 2021
DESCRIPTION:Du 12 au 14 Mars 2021\, vous pourrez télécharger votre attestation de participation au congrès \nCliquez ICI pour accéder à l’ATTESTATION
URL:https://afera.onl/programme/telecharger-votre-attestation-de-participation-au-congres-2021/
CATEGORIES:2021,Congrès
END:VEVENT
BEGIN:VEVENT
DTSTART;TZID=Europe/Paris:20200320T080000
DTEND;TZID=Europe/Paris:20200321T140000
DTSTAMP:20260422T145823
CREATED:20190626T162421Z
LAST-MODIFIED:20200917T150651Z
UID:15585-1584691200-1584799200@afera.onl
SUMMARY:Congrès de l'AFERA 2020 Annulé
DESCRIPTION:Le 29e congrès de l’AFERA devait avoir lieu le 20 et 21 mars 2020 à Nîmes\nPour cause de confinement en lien avec le COVID-19\, le congrès est annulé: selon l’évolution\, nous vous proposerons une autre date avec des modifications probables dans le programme annoncé.\n \nOn espère revoir tout le monde très prochainement\, mais en attendant\, la banque de données du site de l’AFERA est toujours à disposition pour approfondir vos connaissances. Nous vous souhaitons de fructueuses recherches via l’outil de recherche des documents. Soyez raisonnables et prudents\, où que vous soyez. Que votre wei qi soit fort et efficace!\n \nConcernant les modalités de remboursement des frais d’inscription\, contactez le trésorier à l’adresse afera@wanadoo.fr  en indiquant vos nom prénom et RIB en pièce jointe.\n \n[vc_row][vc_column][vc_btn title=”Voir la plaquette” style=”classic” shape=”square” color=”inverse” size=”lg” align=”center” link=”url:https%3A%2F%2Fafera.onl%2Fwp-content%2Fuploads%2F2019%2F10%2Fplaquette_Afera_2020_12.pdf|title:Plaquette%20Congr%C3%A8s%202020|target:%20_blank|”][/vc_column][/vc_row]
URL:https://afera.onl/programme/29-congres-de-lafera/
LOCATION:HÔTEL C-SUITES\, 152 rue Claude Nicolas Ledoux\, NÎMES\, 30900
CATEGORIES:2020,Congrès
END:VEVENT
BEGIN:VEVENT
DTSTART;TZID=Europe/Paris:20190315T080000
DTEND;TZID=Europe/Paris:20190316T130000
DTSTAMP:20260422T145823
CREATED:20190121T002847Z
LAST-MODIFIED:20190225T094432Z
UID:13635-1552636800-1552741200@afera.onl
SUMMARY:28 ème Congrès AFERA | 2019
DESCRIPTION:Consulter le Programme du Congrès 2019
URL:https://afera.onl/programme/28-eme-congres-afera-2019/
LOCATION:HÔTEL C-SUITES\, 152 rue Claude Nicolas Ledoux\, NÎMES\, 30900
CATEGORIES:2019,Congrès
END:VEVENT
END:VCALENDAR